BEGIN:VCALENDAR
VERSION:2.0
PRODID:-//Library Market//iCal Export//EN
BEGIN:VEVENT
SUMMARY:ReStitch
UID:66520
DTSTAMP:20260419T172700Z
DTSTART:20260523T160000Z
DTEND:20260523T190000Z
LOCATION:Vigo County Public Library, 680 Poplar Street, Terre Haute, IN 47
 807, United States
ROOM: Haute Create
DESCRIPTION:ReStitch Wabash Valley volunteer program in HC. 
URL:https://vigocounty.librarycalendar.com/event/restitch-66520
END:VEVENT
END:VCALENDAR
