BEGIN:VCALENDAR
VERSION:2.0
PRODID:-//Library Market//iCal Export//EN
BEGIN:VEVENT
SUMMARY:ReStitch
UID:66519
DTSTAMP:20260424T223500Z
DTSTART:20260516T160000Z
DTEND:20260516T190000Z
LOCATION:Vigo County Public Library, 680 Poplar Street, Terre Haute, IN 47
 807, United States
ROOM: Haute Create
DESCRIPTION:ReStitch Wabash Valley volunteer program in HC. 
URL:https://vigocounty.librarycalendar.com/event/copy-restitch-66519
END:VEVENT
END:VCALENDAR
