BEGIN:VCALENDAR
VERSION:2.0
PRODID:-//Library Market//iCal Export//EN
BEGIN:VEVENT
SUMMARY:Spoon Ring Making
UID:66462
DTSTAMP:20260423T082800Z
DTSTART:20260708T193000Z
DTEND:20260708T203000Z
LOCATION:Vigo County Public Library, 2200 North 13th Street, Terre Haute, 
 IN 47804, United States
ROOM: Garage | 12 Points
DESCRIPTION:
URL:https://vigocounty.librarycalendar.com/event/spoon-ring-making-66462
END:VEVENT
END:VCALENDAR
