BEGIN:VCALENDAR
VERSION:2.0
PRODID:-//Library Market//iCal Export//EN
BEGIN:VEVENT
SUMMARY:DAV Staff Training
UID:66414
DTSTAMP:20260421T154300Z
DTSTART:20260418T170000Z
DTEND:20260418T190000Z
LOCATION:Vigo County Public Library, 2200 North 13th Street, Terre Haute, 
 IN 47804, United States
ROOM: Meeting Room | 12 Points
DESCRIPTION:Disabled American Veterans
URL:https://vigocounty.librarycalendar.com/event/dav-staff-training-66414
END:VEVENT
END:VCALENDAR
