BEGIN:VCALENDAR
VERSION:2.0
PRODID:-//Library Market//iCal Export//EN
BEGIN:VEVENT
SUMMARY:Vigo County Quilter&#039;s Guild
UID:66327
DTSTAMP:20260421T135500Z
DTSTART:20260414T200000Z
DTEND:20260414T220000Z
LOCATION:Vigo County Public Library, 680 Poplar Street, Terre Haute, IN 47
 807, United States
ROOM: Meeting Room C
DESCRIPTION:Share love of quilting
URL:https://vigocounty.librarycalendar.com/event/quilters-guild-66327
END:VEVENT
END:VCALENDAR
