BEGIN:VCALENDAR
VERSION:2.0
PRODID:-//Library Market//iCal Export//EN
BEGIN:VEVENT
SUMMARY:A Taste of Germany
UID:66120
DTSTAMP:20260421T135500Z
DTSTART:20260819T213000Z
DTEND:20260819T230000Z
LOCATION:Vigo County Public Library, 2200 North 13th Street, Terre Haute, 
 IN 47804, United States
ROOM: Kitchen | 12 Points
DESCRIPTION:
URL:https://vigocounty.librarycalendar.com/event/german-cooking-class-6612
 0
END:VEVENT
END:VCALENDAR
