BEGIN:VCALENDAR
VERSION:2.0
PRODID:-//Library Market//iCal Export//EN
BEGIN:VEVENT
SUMMARY:Terre Haute Writers Guild
UID:66437
DTSTAMP:20260420T090200Z
DTSTART:20260522T180000Z
DTEND:20260522T200000Z
LOCATION:Vigo County Public Library, 680 Poplar Street, Terre Haute, IN 47
 807, United States
ROOM: Meeting Room B
DESCRIPTION:A new monthly gathering for writers to share drafts and works 
 in progress in a supportive, low‑key environment. Come listen, read, con
 nect with other writers at any stage, and support one another’s social m
 edia and author platforms.  
URL:https://vigocounty.librarycalendar.com/index.php/event/terre-haute-wri
 ters-guild-66437
END:VEVENT
END:VCALENDAR
