BEGIN:VCALENDAR
VERSION:2.0
PRODID:-//Library Market//iCal Export//EN
BEGIN:VEVENT
SUMMARY:Book Club
UID:66294
DTSTAMP:20260422T165500Z
DTSTART:20260422T220000Z
DTEND:20260422T230000Z
LOCATION:Vigo County Public Library, 680 Poplar Street, Terre Haute, IN 47
 807, United States
ROOM: Meeting Room C
DESCRIPTION:Book Club Discussion
URL:https://vigocounty.librarycalendar.com/index.php/event/book-club-66294
END:VEVENT
END:VCALENDAR
