BEGIN:VCALENDAR
VERSION:2.0
PRODID:-//Library Market//iCal Export//EN
BEGIN:VEVENT
SUMMARY:A Taste of Mexico
UID:66104
DTSTAMP:20260423T173900Z
DTSTART:20260624T213000Z
DTEND:20260624T230000Z
LOCATION:Vigo County Public Library, 2200 North 13th Street, Terre Haute, 
 IN 47804, United States
ROOM: Kitchen | 12 Points
DESCRIPTION:
URL:https://vigocounty.librarycalendar.com/index.php/event/cooking-class-m
 exican-66104
END:VEVENT
END:VCALENDAR
