BEGIN:VCALENDAR
VERSION:2.0
PRODID:-//Library Market//iCal Export//EN
BEGIN:VEVENT
SUMMARY:Start With Scratch: Animation Made Easy
UID:62918
DTSTAMP:20260421T135500Z
DTSTART:20260721T150000Z
DTEND:20260721T163000Z
LOCATION:Vigo County Public Library, 680 Poplar Street, Terre Haute, IN 47
 807, United States
ROOM: Haute Create
DESCRIPTION:
URL:https://vigocounty.librarycalendar.com/index.php/event/hold-scratch-pr
 ogram-62918
END:VEVENT
END:VCALENDAR
